BEGIN:VCALENDAR
VERSION:2.0
PRODID:-//Sabre//Sabre VObject 4.5.8//EN
CALSCALE:GREGORIAN
BEGIN:VEVENT
UID:sabre-vobject-7ce24d47-fec4-4dd0-9642-0f60c606bbe8
DTSTAMP:20260421T123421Z
SUMMARY:Cosmetic Business 2026
DESCRIPTION:München\n10.-11. Juni 2026
LOCATION:München
DTSTART:20260610T120000Z
DTEND:20260611T120000Z
END:VEVENT
END:VCALENDAR
