BEGIN:VCALENDAR
VERSION:2.0
PRODID:-//Sabre//Sabre VObject 4.5.8//EN
CALSCALE:GREGORIAN
BEGIN:VEVENT
UID:sabre-vobject-397bbe6c-2aea-478e-908d-413989d7f43f
DTSTAMP:20260421T123419Z
SUMMARY:PCI Days 2026
DESCRIPTION:Warschau\n16.-18. Juni 2026
LOCATION:Warschau
DTSTART:20260616T120000Z
DTEND:20260618T120000Z
END:VEVENT
END:VCALENDAR
