BEGIN:VCALENDAR
VERSION:2.0
PRODID:-//Sabre//Sabre VObject 4.5.8//EN
CALSCALE:GREGORIAN
BEGIN:VEVENT
UID:sabre-vobject-59d1dc2e-d2e2-4ce1-a421-93109ffcaa6d
DTSTAMP:20260421T123523Z
SUMMARY:PLMA Amsterdam 2026
DESCRIPTION:Amsterdam\n19-20 May 2026
LOCATION:Amsterdam
DTSTART:20260519T120000Z
DTEND:20260520T120000Z
END:VEVENT
END:VCALENDAR
