BEGIN:VCALENDAR
VERSION:2.0
PRODID:-//Sabre//Sabre VObject 4.5.8//EN
CALSCALE:GREGORIAN
BEGIN:VEVENT
UID:sabre-vobject-a4e06199-5dbf-4f55-9c7d-4954e4dfde76
DTSTAMP:20260421T123459Z
SUMMARY:German Asphalt Days 2026
DESCRIPTION:Berchtesgaden\n25-27 February 2026
LOCATION:Berchtesgaden
DTSTART:20260225T120000Z
DTEND:20260227T120000Z
END:VEVENT
END:VCALENDAR
