BEGIN:VCALENDAR
VERSION:2.0
PRODID:-//Sabre//Sabre VObject 4.5.8//EN
CALSCALE:GREGORIAN
BEGIN:VEVENT
UID:sabre-vobject-c74cccb3-bf9c-4630-9b48-a82fe6a69bf1
DTSTAMP:20260421T123459Z
SUMMARY:Paris Packaging Week 2026
DESCRIPTION:Paris\n05-06 February 2026
LOCATION:Paris
DTSTART:20260205T120000Z
DTEND:20260206T120000Z
END:VEVENT
END:VCALENDAR
