BEGIN:VCALENDAR
VERSION:2.0
PRODID:-//Sabre//Sabre VObject 4.5.8//EN
CALSCALE:GREGORIAN
BEGIN:VEVENT
UID:sabre-vobject-3a68054c-3b21-4fff-b310-2600e45e1b5d
DTSTAMP:20260421T123544Z
SUMMARY:Interzoo 2026
DESCRIPTION:Nuremberg\n12-15 May 2026
LOCATION:Nuremberg
DTSTART:20260512T120000Z
DTEND:20260515T120000Z
END:VEVENT
END:VCALENDAR
