BEGIN:VCALENDAR
VERSION:2.0
PRODID:-//Sabre//Sabre VObject 4.5.8//EN
CALSCALE:GREGORIAN
BEGIN:VEVENT
UID:sabre-vobject-98ecdeb3-a21e-4cf6-bbc5-9c78008e2ddf
DTSTAMP:20260421T135344Z
SUMMARY:Asphalt seminar 2026
DESCRIPTION:Willingen\n24-26 March 2026
LOCATION:Willingen
DTSTART:20260324T120000Z
DTEND:20260326T120000Z
END:VEVENT
END:VCALENDAR
