BEGIN:VCALENDAR
VERSION:2.0
PRODID:-//Sabre//Sabre VObject 4.5.8//EN
CALSCALE:GREGORIAN
BEGIN:VEVENT
UID:sabre-vobject-d396ef69-3ada-451b-9c4e-124e8eed07e3
DTSTAMP:20260421T135343Z
SUMMARY:Biofach 2026
DESCRIPTION:Nuremberg\n10-13 February 2026
LOCATION:Nuremberg
DTSTART:20260210T120000Z
DTEND:20260213T120000Z
END:VEVENT
END:VCALENDAR
